BEGIN:VCALENDAR
VERSION:2.0
PRODID:-//Lebensraum Dünningsbruch - ECPv6.14.2//NONSGML v1.0//EN
CALSCALE:GREGORIAN
METHOD:PUBLISH
X-ORIGINAL-URL:https://duenningsbruch.de
X-WR-CALDESC:Veranstaltungen für Lebensraum Dünningsbruch
REFRESH-INTERVAL;VALUE=DURATION:PT1H
X-Robots-Tag:noindex
X-PUBLISHED-TTL:PT1H
BEGIN:VTIMEZONE
TZID:Europe/Berlin
BEGIN:DAYLIGHT
TZOFFSETFROM:+0100
TZOFFSETTO:+0200
TZNAME:CEST
DTSTART:20250330T010000
END:DAYLIGHT
BEGIN:STANDARD
TZOFFSETFROM:+0200
TZOFFSETTO:+0100
TZNAME:CET
DTSTART:20251026T010000
END:STANDARD
BEGIN:DAYLIGHT
TZOFFSETFROM:+0100
TZOFFSETTO:+0200
TZNAME:CEST
DTSTART:20260329T010000
END:DAYLIGHT
BEGIN:STANDARD
TZOFFSETFROM:+0200
TZOFFSETTO:+0100
TZNAME:CET
DTSTART:20261025T010000
END:STANDARD
END:VTIMEZONE
BEGIN:VEVENT
DTSTART;TZID=Europe/Berlin:20260413T160000
DTEND;TZID=Europe/Berlin:20260413T180000
DTSTAMP:20260420T142359
CREATED:20260323T081641Z
LAST-MODIFIED:20260323T081641Z
UID:935-1776096000-1776103200@duenningsbruch.de
SUMMARY:Bürgeranhörung Bebauung im Dünningsbruch
DESCRIPTION:Der Fachbereich Stadtentwicklung\, -planung und Bauordnung lädt zu einer Frühzeitigen Beteiligung der Öffentlichkeit ein. Bei dieser Veranstaltung wird die Öffentlichkeit über die allgemeinen Ziele und Zwecke sowie die voraussichtlichen Auswirkungen des Bebauungsplanes unterrichtet. \nOrt: Ratssaal\, Rathaus an der Volme (Bauteil A)\, Rathausstraße 13 \nZeit: Montag\, 13.04.2026 um 16:00 Uhr \nZusätzlich wird bei dieser Beteiligung der Öffentlichkeit vom 23.03.2026 bis einschließlich 23.04.2026 beim Fachbereich Stadtentwicklung\, -planung und Bauordnung\, Historisches Rathaus (Bauteil D)\, Flurbereich 1. Obergeschoss\, Rathausstraße 11\, 58095 Hagen während der Dienststunden (montags bis donnerstags von 08:30 Uhr bis 17:00 Uhr und freitags von 08:30 Uhr bis 12:00 Uhr) Gelegenheit zur Äußerung und Erörterung gegeben. \nTermine können unter der Telefonnummer: 02331 207-3783 oder E-Mail-Adresse: jan.denbrave@stadt-hagen.de vereinbart werden. Eine Einsichtnahme ist zu den oben angegebenen Zeiten aber auch ohne vorherige Vereinbarung eines Termins möglich. \nStellungnahmen können während der frühzeitigen Beteiligung der Öffentlichkeit schriftlich\, elektronisch oder zur Niederschrift einzeln oder als Sammeleingabe unter oben genannten Kontaktmöglichkeiten abgegeben werden.
URL:https://duenningsbruch.de/termine/buergeranhoerung-bebauung-im-duenningsbruch/
END:VEVENT
BEGIN:VEVENT
DTSTART;TZID=Europe/Berlin:20260408T183000
DTEND;TZID=Europe/Berlin:20260408T200000
DTSTAMP:20260420T142359
CREATED:20251110T074043Z
LAST-MODIFIED:20251110T074043Z
UID:886-1775673000-1775678400@duenningsbruch.de
SUMMARY:Neuigkeiten. Ideen. Erfolge. – der regelmäßige Austausch zum Dünningsbruch
DESCRIPTION:Jeden 2. Mittwoch im Monat kommen wir als Bürgerinitiative Dünningsbruch zusammen\, um uns über die aktuellen Entwicklungen auszutauschen\, neue Ideen zu besprechen und Erfolge zu teilen. In dieser Runde stimmen wir gemeinsame Aktivitäten ab\, diskutieren wichtige Themen und halten den Kontakt innerhalb der Initiative lebendig. \nDieser Termin ist die zentrale Gelegenheit\, um Informationen aus erster Hand zu erhalten\, sich aktiv einzubringen und gemeinsam den nächsten Schritt für den Erhalt und die Zukunft des Dünningsbruchs zu gestalten. \nJede und jeder ist herzlich willkommen – ob zum Zuhören\, Mitdiskutieren oder aktiven Mitgestalten. Bringen Sie Ihre Perspektiven\, Fragen und Anregungen ein und helfen Sie mit\, die Zukunft des Dünningsbruchs gemeinsam zu gestalten.
URL:https://duenningsbruch.de/termine/neuigkeiten-ideen-erfolge-der-regelmaessige-austausch-zum-duenningsbruch-11/
LOCATION:Gräfe & Jung im Lennetal\, Profilstraße 8\, Hagen\, NRW\, 58093\, Germany
END:VEVENT
BEGIN:VEVENT
DTSTART;TZID=Europe/Berlin:20260311T183000
DTEND;TZID=Europe/Berlin:20260311T200000
DTSTAMP:20260420T142359
CREATED:20251110T074001Z
LAST-MODIFIED:20251110T074001Z
UID:884-1773253800-1773259200@duenningsbruch.de
SUMMARY:Neuigkeiten. Ideen. Erfolge. – der regelmäßige Austausch zum Dünningsbruch
DESCRIPTION:Jeden 2. Mittwoch im Monat kommen wir als Bürgerinitiative Dünningsbruch zusammen\, um uns über die aktuellen Entwicklungen auszutauschen\, neue Ideen zu besprechen und Erfolge zu teilen. In dieser Runde stimmen wir gemeinsame Aktivitäten ab\, diskutieren wichtige Themen und halten den Kontakt innerhalb der Initiative lebendig. \nDieser Termin ist die zentrale Gelegenheit\, um Informationen aus erster Hand zu erhalten\, sich aktiv einzubringen und gemeinsam den nächsten Schritt für den Erhalt und die Zukunft des Dünningsbruchs zu gestalten. \nJede und jeder ist herzlich willkommen – ob zum Zuhören\, Mitdiskutieren oder aktiven Mitgestalten. Bringen Sie Ihre Perspektiven\, Fragen und Anregungen ein und helfen Sie mit\, die Zukunft des Dünningsbruchs gemeinsam zu gestalten.
URL:https://duenningsbruch.de/termine/neuigkeiten-ideen-erfolge-der-regelmaessige-austausch-zum-duenningsbruch-10/
LOCATION:Gräfe & Jung im Lennetal\, Profilstraße 8\, Hagen\, NRW\, 58093\, Germany
END:VEVENT
BEGIN:VEVENT
DTSTART;TZID=Europe/Berlin:20260211T183000
DTEND;TZID=Europe/Berlin:20260211T200000
DTSTAMP:20260420T142359
CREATED:20251110T073851Z
LAST-MODIFIED:20251113T123251Z
UID:882-1770834600-1770840000@duenningsbruch.de
SUMMARY:Neuigkeiten. Ideen. Erfolge. – der regelmäßige Austausch zum Dünningsbruch
DESCRIPTION:Jeden 2. Mittwoch im Monat kommen wir als Bürgerinitiative Dünningsbruch zusammen\, um uns über die aktuellen Entwicklungen auszutauschen\, neue Ideen zu besprechen und Erfolge zu teilen. In dieser Runde stimmen wir gemeinsame Aktivitäten ab\, diskutieren wichtige Themen und halten den Kontakt innerhalb der Initiative lebendig. \nDieser Termin ist die zentrale Gelegenheit\, um Informationen aus erster Hand zu erhalten\, sich aktiv einzubringen und gemeinsam den nächsten Schritt für den Erhalt und die Zukunft des Dünningsbruchs zu gestalten. \nJede und jeder ist herzlich willkommen – ob zum Zuhören\, Mitdiskutieren oder aktiven Mitgestalten. Bringen Sie Ihre Perspektiven\, Fragen und Anregungen ein und helfen Sie mit\, die Zukunft des Dünningsbruchs gemeinsam zu gestalten.
URL:https://duenningsbruch.de/termine/neuigkeiten-ideen-erfolge-der-regelmaessige-austausch-zum-duenningsbruch-9/
LOCATION:Gräfe & Jung im Lennetal\, Profilstraße 8\, Hagen\, NRW\, 58093\, Germany
END:VEVENT
BEGIN:VEVENT
DTSTART;TZID=Europe/Berlin:20260114T183000
DTEND;TZID=Europe/Berlin:20260114T200000
DTSTAMP:20260420T142359
CREATED:20251110T073805Z
LAST-MODIFIED:20251110T073805Z
UID:880-1768415400-1768420800@duenningsbruch.de
SUMMARY:Neuigkeiten. Ideen. Erfolge. – der regelmäßige Austausch zum Dünningsbruch
DESCRIPTION:Jeden 2. Mittwoch im Monat kommen wir als Bürgerinitiative Dünningsbruch zusammen\, um uns über die aktuellen Entwicklungen auszutauschen\, neue Ideen zu besprechen und Erfolge zu teilen. In dieser Runde stimmen wir gemeinsame Aktivitäten ab\, diskutieren wichtige Themen und halten den Kontakt innerhalb der Initiative lebendig. \nDieser Termin ist die zentrale Gelegenheit\, um Informationen aus erster Hand zu erhalten\, sich aktiv einzubringen und gemeinsam den nächsten Schritt für den Erhalt und die Zukunft des Dünningsbruchs zu gestalten. \nJede und jeder ist herzlich willkommen – ob zum Zuhören\, Mitdiskutieren oder aktiven Mitgestalten. Bringen Sie Ihre Perspektiven\, Fragen und Anregungen ein und helfen Sie mit\, die Zukunft des Dünningsbruchs gemeinsam zu gestalten.
URL:https://duenningsbruch.de/termine/neuigkeiten-ideen-erfolge-der-regelmaessige-austausch-zum-duenningsbruch-8/
LOCATION:Gräfe & Jung im Lennetal\, Profilstraße 8\, Hagen\, NRW\, 58093\, Germany
END:VEVENT
BEGIN:VEVENT
DTSTART;TZID=Europe/Berlin:20251210T183000
DTEND;TZID=Europe/Berlin:20251210T200000
DTSTAMP:20260420T142359
CREATED:20251110T073455Z
LAST-MODIFIED:20251110T073455Z
UID:877-1765391400-1765396800@duenningsbruch.de
SUMMARY:Neuigkeiten. Ideen. Erfolge. – der regelmäßige Austausch zum Dünningsbruch
DESCRIPTION:Jeden 2. Mittwoch im Monat kommen wir als Bürgerinitiative Dünningsbruch zusammen\, um uns über die aktuellen Entwicklungen auszutauschen\, neue Ideen zu besprechen und Erfolge zu teilen. In dieser Runde stimmen wir gemeinsame Aktivitäten ab\, diskutieren wichtige Themen und halten den Kontakt innerhalb der Initiative lebendig. \nDieser Termin ist die zentrale Gelegenheit\, um Informationen aus erster Hand zu erhalten\, sich aktiv einzubringen und gemeinsam den nächsten Schritt für den Erhalt und die Zukunft des Dünningsbruchs zu gestalten. \nJede und jeder ist herzlich willkommen – ob zum Zuhören\, Mitdiskutieren oder aktiven Mitgestalten. Bringen Sie Ihre Perspektiven\, Fragen und Anregungen ein und helfen Sie mit\, die Zukunft des Dünningsbruchs gemeinsam zu gestalten.
URL:https://duenningsbruch.de/termine/neuigkeiten-ideen-erfolge-der-regelmaessige-austausch-zum-duenningsbruch-7/
LOCATION:Gräfe & Jung im Lennetal\, Profilstraße 8\, Hagen\, NRW\, 58093\, Germany
END:VEVENT
BEGIN:VEVENT
DTSTART;TZID=Europe/Berlin:20251029T183000
DTEND;TZID=Europe/Berlin:20251029T200000
DTSTAMP:20260420T142359
CREATED:20250916T113707Z
LAST-MODIFIED:20250916T113707Z
UID:805-1761762600-1761768000@duenningsbruch.de
SUMMARY:Neuigkeiten. Ideen. Erfolge. – der regelmäßige Austausch zum Dünningsbruch
DESCRIPTION:Alle zwei Wochen kommen wir als Bürgerinitiative Dünningsbruch zusammen\, um uns über die aktuellen Entwicklungen auszutauschen\, neue Ideen zu besprechen und Erfolge zu teilen. In dieser Runde stimmen wir gemeinsame Aktivitäten ab\, diskutieren wichtige Themen und halten den Kontakt innerhalb der Initiative lebendig. \nDieser Termin ist die zentrale Gelegenheit\, um Informationen aus erster Hand zu erhalten\, sich aktiv einzubringen und gemeinsam den nächsten Schritt für den Erhalt und die Zukunft des Dünningsbruchs zu gestalten. \nJede und jeder ist herzlich willkommen – ob zum Zuhören\, Mitdiskutieren oder aktiven Mitgestalten. Bringen Sie Ihre Perspektiven\, Fragen und Anregungen ein und helfen Sie mit\, die Zukunft des Dünningsbruchs gemeinsam zu gestalten.
URL:https://duenningsbruch.de/termine/neuigkeiten-ideen-erfolge-der-regelmaessige-austausch-zum-duenningsbruch-6/
LOCATION:Malteser Hilfsdienst e.V.\, Boeler Str. 94\, Hagen\, 58097\, Germany
END:VEVENT
BEGIN:VEVENT
DTSTART;TZID=Europe/Berlin:20251015T183000
DTEND;TZID=Europe/Berlin:20251015T200000
DTSTAMP:20260420T142359
CREATED:20250916T113627Z
LAST-MODIFIED:20250916T113627Z
UID:803-1760553000-1760558400@duenningsbruch.de
SUMMARY:Neuigkeiten. Ideen. Erfolge. – der regelmäßige Austausch zum Dünningsbruch
DESCRIPTION:Alle zwei Wochen kommen wir als Bürgerinitiative Dünningsbruch zusammen\, um uns über die aktuellen Entwicklungen auszutauschen\, neue Ideen zu besprechen und Erfolge zu teilen. In dieser Runde stimmen wir gemeinsame Aktivitäten ab\, diskutieren wichtige Themen und halten den Kontakt innerhalb der Initiative lebendig. \nDieser Termin ist die zentrale Gelegenheit\, um Informationen aus erster Hand zu erhalten\, sich aktiv einzubringen und gemeinsam den nächsten Schritt für den Erhalt und die Zukunft des Dünningsbruchs zu gestalten. \nJede und jeder ist herzlich willkommen – ob zum Zuhören\, Mitdiskutieren oder aktiven Mitgestalten. Bringen Sie Ihre Perspektiven\, Fragen und Anregungen ein und helfen Sie mit\, die Zukunft des Dünningsbruchs gemeinsam zu gestalten.
URL:https://duenningsbruch.de/termine/neuigkeiten-ideen-erfolge-der-regelmaessige-austausch-zum-duenningsbruch-5/
LOCATION:Malteser Hilfsdienst e.V.\, Boeler Str. 94\, Hagen\, 58097\, Germany
END:VEVENT
BEGIN:VEVENT
DTSTART;TZID=Europe/Berlin:20251001T183000
DTEND;TZID=Europe/Berlin:20251001T200000
DTSTAMP:20260420T142359
CREATED:20250916T113532Z
LAST-MODIFIED:20250916T113532Z
UID:801-1759343400-1759348800@duenningsbruch.de
SUMMARY:Neuigkeiten. Ideen. Erfolge. – der regelmäßige Austausch zum Dünningsbruch
DESCRIPTION:Alle zwei Wochen kommen wir als Bürgerinitiative Dünningsbruch zusammen\, um uns über die aktuellen Entwicklungen auszutauschen\, neue Ideen zu besprechen und Erfolge zu teilen. In dieser Runde stimmen wir gemeinsame Aktivitäten ab\, diskutieren wichtige Themen und halten den Kontakt innerhalb der Initiative lebendig. \nDieser Termin ist die zentrale Gelegenheit\, um Informationen aus erster Hand zu erhalten\, sich aktiv einzubringen und gemeinsam den nächsten Schritt für den Erhalt und die Zukunft des Dünningsbruchs zu gestalten. \nJede und jeder ist herzlich willkommen – ob zum Zuhören\, Mitdiskutieren oder aktiven Mitgestalten. Bringen Sie Ihre Perspektiven\, Fragen und Anregungen ein und helfen Sie mit\, die Zukunft des Dünningsbruchs gemeinsam zu gestalten.
URL:https://duenningsbruch.de/termine/neuigkeiten-ideen-erfolge-der-regelmaessige-austausch-zum-duenningsbruch-4/
LOCATION:Malteser Hilfsdienst e.V.\, Boeler Str. 94\, Hagen\, 58097\, Germany
END:VEVENT
BEGIN:VEVENT
DTSTART;TZID=Europe/Berlin:20250920T100000
DTEND;TZID=Europe/Berlin:20250920T130000
DTSTAMP:20260420T142359
CREATED:20250821T064558Z
LAST-MODIFIED:20250821T064558Z
UID:774-1758362400-1758373200@duenningsbruch.de
SUMMARY:Sauberes Eppenhausen
DESCRIPTION:Mitmachen beim World Cleanup Day 2025!\nAm Samstag\, den 20. September 2025\, beteiligen wir uns gemeinsam am internationalen World Cleanup Day und wollen unseren Stadtteil Eppenhausen von Müll befreien. \nVon 10:00 bis 13:00 Uhr treffen wir uns an der Grundschule Boloh (Weizenkamp 3\, 58093 Hagen)\, um zusammen aktiv zu werden. Jede helfende Hand ist herzlich willkommen – ob groß oder klein! \nDas erwartet Sie: \n\n\nBereitstellung von Equipment (Müllsäcke\, Handschuhe\, Greifzangen etc.) \n\n\nVerpflegung für alle fleißigen Helferinnen und Helfer \n\n\nGemeinsames Engagement für einen sauberen und lebenswerten Stadtteil \n\n\nBitte denken Sie an strapazierfähige Kleidung. \nMachen Sie mit – setzen wir gemeinsam ein Zeichen für Nachhaltigkeit und ein starkes Miteinander in Eppenhausen! \n📍 Treffpunkt: Grundschule Boloh\, Weizenkamp 3\, 58093 Hagen🕙 Zeit: Samstag\, 20. September 2025 | 10:00 – 13:00 Uhr \nWeitere Informationen finden Sie unter: www.hagen-eppenhausen.de
URL:https://duenningsbruch.de/termine/sauberes-eppenhausen/
LOCATION:Grundschule Boloh\, Weizenkamp 3\, Hagen\, 58097\, Germany
END:VEVENT
BEGIN:VEVENT
DTSTART;TZID=Europe/Berlin:20250917T183000
DTEND;TZID=Europe/Berlin:20250917T200000
DTSTAMP:20260420T142359
CREATED:20250808T153905Z
LAST-MODIFIED:20250808T153905Z
UID:735-1758133800-1758139200@duenningsbruch.de
SUMMARY:Neuigkeiten. Ideen. Erfolge. - der regelmäßige Austausch zum Dünningsbruch
DESCRIPTION:Alle zwei Wochen kommen wir als Bürgerinitiative Dünningsbruch zusammen\, um uns über die aktuellen Entwicklungen auszutauschen\, neue Ideen zu besprechen und Erfolge zu teilen. In dieser Runde stimmen wir gemeinsame Aktivitäten ab\, diskutieren wichtige Themen und halten den Kontakt innerhalb der Initiative lebendig. \nDieser Termin ist die zentrale Gelegenheit\, um Informationen aus erster Hand zu erhalten\, sich aktiv einzubringen und gemeinsam den nächsten Schritt für den Erhalt und die Zukunft des Dünningsbruchs zu gestalten. \nJede und jeder ist herzlich willkommen – ob zum Zuhören\, Mitdiskutieren oder aktiven Mitgestalten. Bringen Sie Ihre Perspektiven\, Fragen und Anregungen ein und helfen Sie mit\, die Zukunft des Dünningsbruchs gemeinsam zu gestalten.
URL:https://duenningsbruch.de/termine/neuigkeiten-ideen-erfolge-der-regelmaessige-austausch-zum-duenningsbruch-3/
LOCATION:Malteser Hilfsdienst e.V.\, Boeler Str. 94\, Hagen\, 58097\, Germany
END:VEVENT
BEGIN:VEVENT
DTSTART;TZID=Europe/Berlin:20250903T183000
DTEND;TZID=Europe/Berlin:20250903T200000
DTSTAMP:20260420T142359
CREATED:20250808T153751Z
LAST-MODIFIED:20250808T153751Z
UID:733-1756924200-1756929600@duenningsbruch.de
SUMMARY:Neuigkeiten. Ideen. Erfolge. - der regelmäßige Austausch zum Dünningsbruch
DESCRIPTION:Alle zwei Wochen kommen wir als Bürgerinitiative Dünningsbruch zusammen\, um uns über die aktuellen Entwicklungen auszutauschen\, neue Ideen zu besprechen und Erfolge zu teilen. In dieser Runde stimmen wir gemeinsame Aktivitäten ab\, diskutieren wichtige Themen und halten den Kontakt innerhalb der Initiative lebendig. \nDieser Termin ist die zentrale Gelegenheit\, um Informationen aus erster Hand zu erhalten\, sich aktiv einzubringen und gemeinsam den nächsten Schritt für den Erhalt und die Zukunft des Dünningsbruchs zu gestalten. \nJede und jeder ist herzlich willkommen – ob zum Zuhören\, Mitdiskutieren oder aktiven Mitgestalten. Bringen Sie Ihre Perspektiven\, Fragen und Anregungen ein und helfen Sie mit\, die Zukunft des Dünningsbruchs gemeinsam zu gestalten.
URL:https://duenningsbruch.de/termine/neuigkeiten-ideen-erfolge-der-regelmaessige-austausch-zum-duenningsbruch-2/
LOCATION:Malteser Hilfsdienst e.V.\, Boeler Str. 94\, Hagen\, 58097\, Germany
END:VEVENT
BEGIN:VEVENT
DTSTART;TZID=Europe/Berlin:20250831T150000
DTEND;TZID=Europe/Berlin:20250831T170000
DTSTAMP:20260420T142359
CREATED:20250821T064150Z
LAST-MODIFIED:20250821T064353Z
UID:771-1756652400-1756659600@duenningsbruch.de
SUMMARY:Wahlcafé
DESCRIPTION:am Sonntag\, den 31. August 2025 lädt das Stadtteilforum Eppenhausen e.V. herzlich zum Wahlcafé anlässlich der bevorstehenden Kommunalwahl am 14. September 2025 ein. \nOrt: Grundschule Boloh\, Weizenkamp 3\, 58097 Hagen\nZeit: 15:00 – 17:00 Uhr \nNutzen Sie die Gelegenheit\, sich ein eigenes Bild von den Kandidat*innen zur Kommunalwahl zu machen! \nFür Speis & Trank ist gesorgt! Der Eintritt ist kostenlos. \nSeien Sie dabei und bringen Sie gerne Interessierte mit.\nDemokratie lebt vom Mitmachen – wir freuen uns auf Sie! \nMit freundlichen Grüßen\nIhr Stadtteilforum Eppenhausen e.V.
URL:https://duenningsbruch.de/termine/wahlcafe/
LOCATION:Grundschule Boloh\, Weizenkamp 3\, Hagen\, 58097\, Germany
END:VEVENT
BEGIN:VEVENT
DTSTART;TZID=Europe/Berlin:20250826T190000
DTEND;TZID=Europe/Berlin:20250826T210000
DTSTAMP:20260420T142359
CREATED:20250808T152545Z
LAST-MODIFIED:20250808T152545Z
UID:730-1756234800-1756242000@duenningsbruch.de
SUMMARY:CDU Hagen | Bürgerdialog Dünningsbruch
DESCRIPTION:Die CDU Hagen lädt gemeinsam mit der Bürgerinitiative Dünningsbruch zu einem offenen Bürgerdialog ein. Ziel der Veranstaltung ist es\, in konstruktiver Atmosphäre über die aktuelle Situation im Dünningsbruch zu sprechen\, Fragen zu klären und unterschiedliche Sichtweisen auszutauschen. \nAlle interessierten Bürgerinnen und Bürger sind herzlich willkommen\, ihre Anliegen\, Ideen und Anregungen einzubringen. Der Dialog bietet die Gelegenheit\, direkt mit Vertretern der CDU Hagen ins Gespräch zu kommen und gemeinsam nach Lösungen und Perspektiven für die Zukunft des Dünningsbruchs zu suchen.
URL:https://duenningsbruch.de/termine/cdu-hagen-buergerdialog-duenningsbruch/
LOCATION:Humpert am Höing\, Fleyer Str. 123\, Hagen\, 58097
END:VEVENT
BEGIN:VEVENT
DTSTART;TZID=Europe/Berlin:20250820T183000
DTEND;TZID=Europe/Berlin:20250820T200000
DTSTAMP:20260420T142359
CREATED:20250808T151052Z
LAST-MODIFIED:20250808T153549Z
UID:724-1755714600-1755720000@duenningsbruch.de
SUMMARY:Neuigkeiten. Ideen. Erfolge. - der regelmäßige Austausch zum Dünningsbruch
DESCRIPTION:Alle zwei Wochen kommen wir als Bürgerinitiative Dünningsbruch zusammen\, um uns über die aktuellen Entwicklungen auszutauschen\, neue Ideen zu besprechen und Erfolge zu teilen. In dieser Runde stimmen wir gemeinsame Aktivitäten ab\, diskutieren wichtige Themen und halten den Kontakt innerhalb der Initiative lebendig. \nDieser Termin ist die zentrale Gelegenheit\, um Informationen aus erster Hand zu erhalten\, sich aktiv einzubringen und gemeinsam den nächsten Schritt für den Erhalt und die Zukunft des Dünningsbruchs zu gestalten. \nJede und jeder ist herzlich willkommen – ob zum Zuhören\, Mitdiskutieren oder aktiven Mitgestalten. Bringen Sie Ihre Perspektiven\, Fragen und Anregungen ein und helfen Sie mit\, die Zukunft des Dünningsbruchs gemeinsam zu gestalten.
URL:https://duenningsbruch.de/termine/neuigkeiten-ideen-erfolge-der-regelmaessige-austausch-zum-duenningsbruch/
LOCATION:Malteser Hilfsdienst e.V.\, Boeler Str. 94\, Hagen\, 58097\, Germany
END:VEVENT
END:VCALENDAR